BEGIN:VCALENDAR
VERSION:2.0
PRODID:-//Government of the Ta&#039;an Kwäch&#039;än Council - ECPv6.15.20//NONSGML v1.0//EN
CALSCALE:GREGORIAN
METHOD:PUBLISH
X-ORIGINAL-URL:https://taan.ca
X-WR-CALDESC:Events for Government of the Ta&#039;an Kwäch&#039;än Council
REFRESH-INTERVAL;VALUE=DURATION:PT1H
X-Robots-Tag:noindex
X-PUBLISHED-TTL:PT1H
BEGIN:VTIMEZONE
TZID:America/Whitehorse
BEGIN:STANDARD
TZOFFSETFROM:-0700
TZOFFSETTO:-0700
TZNAME:MST
DTSTART:20220101T000000
END:STANDARD
END:VTIMEZONE
BEGIN:VEVENT
DTSTART;TZID=America/Whitehorse:20230207T173000
DTEND;TZID=America/Whitehorse:20230207T200000
DTSTAMP:20260424T054057
CREATED:20230208T001758Z
LAST-MODIFIED:20231010T193205Z
UID:16872-1675791000-1675800000@taan.ca
SUMMARY:Tuesday Night Sewing
DESCRIPTION:
URL:https://taan.ca/event/tuesday-night-sewing/
LOCATION:9042 Quartz Road\, 9042 Quartz Road\, Whitehorse\, Yukon\, Y1A 5L8\, Canada
ORGANIZER;CN="Debbie Burns":MAILTO:dburns@taan.ca
END:VEVENT
END:VCALENDAR