BEGIN:VCALENDAR
VERSION:2.0
PRODID:-//Government of the Ta&#039;an Kwäch&#039;än Council - ECPv6.15.20//NONSGML v1.0//EN
CALSCALE:GREGORIAN
METHOD:PUBLISH
X-WR-CALNAME:Government of the Ta&#039;an Kwäch&#039;än Council
X-ORIGINAL-URL:https://taan.ca
X-WR-CALDESC:Events for Government of the Ta&#039;an Kwäch&#039;än Council
REFRESH-INTERVAL;VALUE=DURATION:PT1H
X-Robots-Tag:noindex
X-PUBLISHED-TTL:PT1H
BEGIN:VTIMEZONE
TZID:UTC
BEGIN:STANDARD
TZOFFSETFROM:+0000
TZOFFSETTO:+0000
TZNAME:UTC
DTSTART:20140101T000000
END:STANDARD
END:VTIMEZONE
BEGIN:VEVENT
DTSTART;TZID=UTC:20160211T170000
DTEND;TZID=UTC:20160211T190000
DTSTAMP:20260420T123810
CREATED:20160127T065733Z
LAST-MODIFIED:20160127T065733Z
UID:2123-1455210000-1455217200@taan.ca
SUMMARY:Youth Meeting
DESCRIPTION:
URL:https://taan.ca/event/youth-meeting-9/
LOCATION:TKC Health Board Room\, 117 Industrial Road\, Whitehorse\, Yukon Territory\, Y1A 2T8\, Canada
END:VEVENT
BEGIN:VEVENT
DTSTART;TZID=UTC:20160209T170000
DTEND;TZID=UTC:20160209T190000
DTSTAMP:20260420T123810
CREATED:20160127T064207Z
LAST-MODIFIED:20160127T064207Z
UID:2110-1455037200-1455044400@taan.ca
SUMMARY:Sewing Classes
DESCRIPTION:
URL:https://taan.ca/event/sewing-classes-11/
LOCATION:TKC Health Board Room\, 117 Industrial Road\, Whitehorse\, Yukon Territory\, Y1A 2T8\, Canada
CATEGORIES:Events,Media Releases
END:VEVENT
BEGIN:VEVENT
DTSTART;TZID=UTC:20160206T090000
DTEND;TZID=UTC:20160206T160000
DTSTAMP:20260420T123810
CREATED:20160127T062801Z
LAST-MODIFIED:20160206T072411Z
UID:2099-1454749200-1454774400@taan.ca
SUMMARY:Cancelled - Southern Tutchone Tribal Council
DESCRIPTION:CANCELLED
URL:https://taan.ca/event/southern-tutchone-tribal-council/
LOCATION:Yukon Territory
CATEGORIES:Events,Media Releases
END:VEVENT
BEGIN:VEVENT
DTSTART;TZID=UTC:20160204T170000
DTEND;TZID=UTC:20160204T190000
DTSTAMP:20260420T123810
CREATED:20160127T065719Z
LAST-MODIFIED:20160127T065719Z
UID:2122-1454605200-1454612400@taan.ca
SUMMARY:Youth Meeting
DESCRIPTION:
URL:https://taan.ca/event/youth-meeting-8/
LOCATION:TKC Health Board Room\, 117 Industrial Road\, Whitehorse\, Yukon Territory\, Y1A 2T8\, Canada
END:VEVENT
BEGIN:VEVENT
DTSTART;TZID=UTC:20160204T090000
DTEND;TZID=UTC:20160204T120000
DTSTAMP:20260420T123810
CREATED:20160127T072614Z
LAST-MODIFIED:20160127T072614Z
UID:2138-1454576400-1454587200@taan.ca
SUMMARY:Elders Council Meeting
DESCRIPTION:
URL:https://taan.ca/event/elders-council-meeting/
LOCATION:TKC Health Board Room\, 117 Industrial Road\, Whitehorse\, Yukon Territory\, Y1A 2T8\, Canada
END:VEVENT
BEGIN:VEVENT
DTSTART;TZID=UTC:20160203T113000
DTEND;TZID=UTC:20160203T200000
DTSTAMP:20260420T123810
CREATED:20160127T071019Z
LAST-MODIFIED:20160127T071226Z
UID:2134-1454499000-1454529600@taan.ca
SUMMARY:CHADBURN LAKE PARK ideas fair
DESCRIPTION:Click here to see poster
URL:https://taan.ca/event/2134/
LOCATION:Old Fire Hall\, 1105 Front St\,\, Whitsehorse\, Yukon\, Y1A 5G4\, Canada
END:VEVENT
BEGIN:VEVENT
DTSTART;TZID=UTC:20160202T170000
DTEND;TZID=UTC:20160202T190000
DTSTAMP:20260420T123810
CREATED:20160127T064055Z
LAST-MODIFIED:20160127T064055Z
UID:2108-1454432400-1454439600@taan.ca
SUMMARY:Sewing Classes
DESCRIPTION:
URL:https://taan.ca/event/sewing-classes-9/
LOCATION:TKC Health Board Room\, 117 Industrial Road\, Whitehorse\, Yukon Territory\, Y1A 2T8\, Canada
CATEGORIES:Events,Media Releases
END:VEVENT
BEGIN:VEVENT
DTSTART;TZID=UTC:20160129T090000
DTEND;TZID=UTC:20160129T153000
DTSTAMP:20260420T123810
CREATED:20160130T013943Z
LAST-MODIFIED:20160130T013949Z
UID:2156-1454058000-1454081400@taan.ca
SUMMARY:Aboriginal Healing:  Twelve Striking Differences
DESCRIPTION:Rupert Ross and Dr. Lee Brown \nPlace:  Upstairs C/TFN Capacity Building \nTime:  9:00 a.m. – 3:30 p.m. with lunch break \nClick here for link to main page
URL:https://taan.ca/event/aboriginal-healing-twelve-striking-differences/
LOCATION:Yukon Territory
CATEGORIES:Events,Media Releases
END:VEVENT
BEGIN:VEVENT
DTSTART;TZID=UTC:20160129T080000
DTEND;TZID=UTC:20160129T170000
DTSTAMP:20260420T123810
CREATED:20160130T013850Z
LAST-MODIFIED:20160130T013850Z
UID:2155-1454054400-1454086800@taan.ca
SUMMARY:Collective Accountability\, Working with First Nations Youth
DESCRIPTION:Tonya Gomes and Dr. Lee Brown \nPlace:  Upstairs C/TFN Capacity Building \nTime: 9:00 a.m. – 3:30 p.m. with lunch break \nClick here for link to main page
URL:https://taan.ca/event/collective-accountability-working-with-first-nations-youth/
LOCATION:Yukon Territory
CATEGORIES:Events,Media Releases
END:VEVENT
BEGIN:VEVENT
DTSTART;TZID=UTC:20160128T170000
DTEND;TZID=UTC:20160128T190000
DTSTAMP:20260420T123810
CREATED:20160127T065702Z
LAST-MODIFIED:20160127T065702Z
UID:2121-1454000400-1454007600@taan.ca
SUMMARY:Youth Meeting
DESCRIPTION:
URL:https://taan.ca/event/youth-meeting-7/
LOCATION:TKC Health Board Room\, 117 Industrial Road\, Whitehorse\, Yukon Territory\, Y1A 2T8\, Canada
END:VEVENT
BEGIN:VEVENT
DTSTART;TZID=UTC:20160127T090000
DTEND;TZID=UTC:20160127T153000
DTSTAMP:20260420T123810
CREATED:20160130T013758Z
LAST-MODIFIED:20160130T013758Z
UID:2154-1453885200-1453908600@taan.ca
SUMMARY:Creating Emotional Competency in Canada's Education and Justice Systems
DESCRIPTION:Dr. Lee Brown and Rupert Ross \nPlace: Upstairs C/TFN Capacity Building \nTime: 9:00 a.m. – 3:30 p.m. with lunch break \nClick here for link to main page
URL:https://taan.ca/event/creating-emotional-competency-in-canadas-education-and-justice-systems/
LOCATION:Yukon Territory
CATEGORIES:Events,Media Releases
END:VEVENT
BEGIN:VEVENT
DTSTART;TZID=UTC:20160126T170000
DTEND;TZID=UTC:20160126T190000
DTSTAMP:20260420T123810
CREATED:20160127T064017Z
LAST-MODIFIED:20160127T064017Z
UID:2107-1453827600-1453834800@taan.ca
SUMMARY:Sewing Classes
DESCRIPTION:
URL:https://taan.ca/event/sewing-classes-8/
LOCATION:TKC Health Board Room\, 117 Industrial Road\, Whitehorse\, Yukon Territory\, Y1A 2T8\, Canada
CATEGORIES:Events,Media Releases
END:VEVENT
BEGIN:VEVENT
DTSTART;TZID=UTC:20160126T090000
DTEND;TZID=UTC:20160126T153000
DTSTAMP:20260420T123810
CREATED:20160130T013612Z
LAST-MODIFIED:20160130T013643Z
UID:2152-1453798800-1453822200@taan.ca
SUMMARY:Exploring the psychological damage of residential schools
DESCRIPTION:Rupert Ross\, Dr. Lee Brown and Tonya Gomes \nPlace:  Kwanlin Dun Cultural Centre \nTime:   9:00 a.m. – 3:30 p.m. with lunch break \nclick Here for link to main page
URL:https://taan.ca/event/exploring-the-psychological-damage-of-residential-schools/
LOCATION:Yukon Territory
CATEGORIES:Events,Media Releases
END:VEVENT
BEGIN:VEVENT
DTSTART;TZID=UTC:20160121T170000
DTEND;TZID=UTC:20160121T190000
DTSTAMP:20260420T123810
CREATED:20160127T065646Z
LAST-MODIFIED:20160127T065646Z
UID:2120-1453395600-1453402800@taan.ca
SUMMARY:Youth Meeting
DESCRIPTION:
URL:https://taan.ca/event/youth-meeting-6/
LOCATION:TKC Health Board Room\, 117 Industrial Road\, Whitehorse\, Yukon Territory\, Y1A 2T8\, Canada
END:VEVENT
BEGIN:VEVENT
DTSTART;TZID=UTC:20160119T170000
DTEND;TZID=UTC:20160119T190000
DTSTAMP:20260420T123810
CREATED:20160127T063959Z
LAST-MODIFIED:20160127T063959Z
UID:2106-1453222800-1453230000@taan.ca
SUMMARY:Sewing Classes
DESCRIPTION:
URL:https://taan.ca/event/sewing-classes-7/
LOCATION:TKC Health Board Room\, 117 Industrial Road\, Whitehorse\, Yukon Territory\, Y1A 2T8\, Canada
CATEGORIES:Events,Media Releases
END:VEVENT
BEGIN:VEVENT
DTSTART;TZID=UTC:20160114T170000
DTEND;TZID=UTC:20160114T190000
DTSTAMP:20260420T123810
CREATED:20160127T065631Z
LAST-MODIFIED:20160127T065631Z
UID:2119-1452790800-1452798000@taan.ca
SUMMARY:Youth Meeting
DESCRIPTION:
URL:https://taan.ca/event/youth-meeting-5/
LOCATION:TKC Health Board Room\, 117 Industrial Road\, Whitehorse\, Yukon Territory\, Y1A 2T8\, Canada
END:VEVENT
BEGIN:VEVENT
DTSTART;TZID=UTC:20160112T170000
DTEND;TZID=UTC:20160112T190000
DTSTAMP:20260420T123810
CREATED:20160127T063942Z
LAST-MODIFIED:20160127T063942Z
UID:2105-1452618000-1452625200@taan.ca
SUMMARY:Sewing Classes
DESCRIPTION:
URL:https://taan.ca/event/sewing-classes-6/
LOCATION:TKC Health Board Room\, 117 Industrial Road\, Whitehorse\, Yukon Territory\, Y1A 2T8\, Canada
CATEGORIES:Events,Media Releases
END:VEVENT
BEGIN:VEVENT
DTSTART;TZID=UTC:20160107T170000
DTEND;TZID=UTC:20160107T190000
DTSTAMP:20260420T123810
CREATED:20160127T065547Z
LAST-MODIFIED:20160127T065612Z
UID:2117-1452186000-1452193200@taan.ca
SUMMARY:Youth Meeting
DESCRIPTION:
URL:https://taan.ca/event/youth-meetings/
LOCATION:TKC Health Board Room\, 117 Industrial Road\, Whitehorse\, Yukon Territory\, Y1A 2T8\, Canada
END:VEVENT
BEGIN:VEVENT
DTSTART;TZID=UTC:20160105T170000
DTEND;TZID=UTC:20160105T190000
DTSTAMP:20260420T123810
CREATED:20160127T063921Z
LAST-MODIFIED:20160127T063921Z
UID:2104-1452013200-1452020400@taan.ca
SUMMARY:Sewing Classes
DESCRIPTION:
URL:https://taan.ca/event/sewing-classes-5/
LOCATION:TKC Health Board Room\, 117 Industrial Road\, Whitehorse\, Yukon Territory\, Y1A 2T8\, Canada
CATEGORIES:Events,Media Releases
END:VEVENT
BEGIN:VEVENT
DTSTART;VALUE=DATE:20160104
DTEND;VALUE=DATE:20160105
DTSTAMP:20260420T123810
CREATED:20151127T080042Z
LAST-MODIFIED:20151127T080042Z
UID:1949-1451865600-1451951999@taan.ca
SUMMARY:Christmas Break
DESCRIPTION:Office re-opens. Happy New Year!
URL:https://taan.ca/event/christmas-break-10/
LOCATION:TKC Administration Building\, 117 Industrial Road\, Whitehorse\, Yukon\, Y1A 2T8\, Canada
CATEGORIES:Events,Media Releases
END:VEVENT
BEGIN:VEVENT
DTSTART;VALUE=DATE:20160101
DTEND;VALUE=DATE:20160102
DTSTAMP:20260420T123810
CREATED:20151127T075939Z
LAST-MODIFIED:20151127T075939Z
UID:1948-1451606400-1451692799@taan.ca
SUMMARY:Christmas Break
DESCRIPTION:Office Closed
URL:https://taan.ca/event/christmas-break-9/
LOCATION:TKC Administration Building\, 117 Industrial Road\, Whitehorse\, Yukon\, Y1A 2T8\, Canada
CATEGORIES:Events,Media Releases
END:VEVENT
BEGIN:VEVENT
DTSTART;VALUE=DATE:20151231
DTEND;VALUE=DATE:20160101
DTSTAMP:20260420T123810
CREATED:20151127T075909Z
LAST-MODIFIED:20151127T075909Z
UID:1947-1451520000-1451606399@taan.ca
SUMMARY:Christmas Break
DESCRIPTION:Office Closed
URL:https://taan.ca/event/christmas-break-8/
LOCATION:TKC Administration Building\, 117 Industrial Road\, Whitehorse\, Yukon\, Y1A 2T8\, Canada
CATEGORIES:Events,Media Releases
END:VEVENT
BEGIN:VEVENT
DTSTART;VALUE=DATE:20151230
DTEND;VALUE=DATE:20151231
DTSTAMP:20260420T123810
CREATED:20151127T075854Z
LAST-MODIFIED:20151127T075854Z
UID:1946-1451433600-1451519999@taan.ca
SUMMARY:Christmas Break
DESCRIPTION:Office Closed
URL:https://taan.ca/event/christmas-break-7/
LOCATION:TKC Administration Building\, 117 Industrial Road\, Whitehorse\, Yukon\, Y1A 2T8\, Canada
CATEGORIES:Events,Media Releases
END:VEVENT
BEGIN:VEVENT
DTSTART;VALUE=DATE:20151229
DTEND;VALUE=DATE:20151230
DTSTAMP:20260420T123810
CREATED:20151127T075835Z
LAST-MODIFIED:20151127T075835Z
UID:1945-1451347200-1451433599@taan.ca
SUMMARY:Christmas Break
DESCRIPTION:Office Closed
URL:https://taan.ca/event/christmas-break-6/
LOCATION:TKC Administration Building\, 117 Industrial Road\, Whitehorse\, Yukon\, Y1A 2T8\, Canada
CATEGORIES:Events,Media Releases
END:VEVENT
BEGIN:VEVENT
DTSTART;VALUE=DATE:20151228
DTEND;VALUE=DATE:20151229
DTSTAMP:20260420T123810
CREATED:20151127T075821Z
LAST-MODIFIED:20151127T075821Z
UID:1944-1451260800-1451347199@taan.ca
SUMMARY:Christmas Break
DESCRIPTION:Office Closed
URL:https://taan.ca/event/christmas-break-5/
LOCATION:TKC Administration Building\, 117 Industrial Road\, Whitehorse\, Yukon\, Y1A 2T8\, Canada
CATEGORIES:Events,Media Releases
END:VEVENT
BEGIN:VEVENT
DTSTART;VALUE=DATE:20151225
DTEND;VALUE=DATE:20151226
DTSTAMP:20260420T123810
CREATED:20151127T075711Z
LAST-MODIFIED:20151127T075711Z
UID:1941-1451001600-1451087999@taan.ca
SUMMARY:Christmas Break
DESCRIPTION:Office Closed
URL:https://taan.ca/event/christmas-break-2/
LOCATION:TKC Administration Building\, 117 Industrial Road\, Whitehorse\, Yukon\, Y1A 2T8\, Canada
CATEGORIES:Events,Media Releases
END:VEVENT
BEGIN:VEVENT
DTSTART;TZID=UTC:20151224T120000
DTEND;TZID=UTC:20151224T163000
DTSTAMP:20260420T123810
CREATED:20151127T075626Z
LAST-MODIFIED:20151127T075626Z
UID:1940-1450958400-1450974600@taan.ca
SUMMARY:Christmas Break
DESCRIPTION:
URL:https://taan.ca/event/christmas-break/
LOCATION:TKC Administration Building\, 117 Industrial Road\, Whitehorse\, Yukon\, Y1A 2T8\, Canada
CATEGORIES:Events,Media Releases
END:VEVENT
BEGIN:VEVENT
DTSTART;TZID=UTC:20151223T170000
DTEND;TZID=UTC:20151223T170000
DTSTAMP:20260420T123810
CREATED:20151127T075533Z
LAST-MODIFIED:20151127T075533Z
UID:1939-1450890000-1450890000@taan.ca
SUMMARY:Sewing Classes
DESCRIPTION:
URL:https://taan.ca/event/sewing-classes-4/
LOCATION:TKC Health Board Room\, 117 Industrial Road\, Whitehorse\, Yukon Territory\, Y1A 2T8\, Canada
CATEGORIES:Events,Media Releases
END:VEVENT
BEGIN:VEVENT
DTSTART;TZID=UTC:20151217T170000
DTEND;TZID=UTC:20151217T200000
DTSTAMP:20260420T123810
CREATED:20151127T075456Z
LAST-MODIFIED:20151127T075456Z
UID:1938-1450371600-1450382400@taan.ca
SUMMARY:TKC Youth Christmas Party
DESCRIPTION:
URL:https://taan.ca/event/tkc-youth-christmas-party/
LOCATION:TKC Health Board Room\, 117 Industrial Road\, Whitehorse\, Yukon Territory\, Y1A 2T8\, Canada
CATEGORIES:Events,Media Releases
END:VEVENT
BEGIN:VEVENT
DTSTART;TZID=UTC:20151217T110000
DTEND;TZID=UTC:20151217T150000
DTSTAMP:20260420T123810
CREATED:20151127T075413Z
LAST-MODIFIED:20151127T075413Z
UID:1937-1450350000-1450364400@taan.ca
SUMMARY:TKC Open House
DESCRIPTION:
URL:https://taan.ca/event/tkc-open-house/
LOCATION:TKC Administration Building\, 117 Industrial Road\, Whitehorse\, Yukon\, Y1A 2T8\, Canada
CATEGORIES:Events,Media Releases
END:VEVENT
END:VCALENDAR